BEGIN:VCALENDAR
VERSION:2.0
PRODID:-//JAZZ.FM91 - ECPv6.15.20//NONSGML v1.0//EN
CALSCALE:GREGORIAN
METHOD:PUBLISH
X-WR-CALNAME:JAZZ.FM91
X-ORIGINAL-URL:https://jazz.fm
X-WR-CALDESC:Events for JAZZ.FM91
REFRESH-INTERVAL;VALUE=DURATION:PT1H
X-Robots-Tag:noindex
X-PUBLISHED-TTL:PT1H
BEGIN:VTIMEZONE
TZID:America/Toronto
BEGIN:DAYLIGHT
TZOFFSETFROM:-0500
TZOFFSETTO:-0400
TZNAME:EDT
DTSTART:20240310T070000
END:DAYLIGHT
BEGIN:STANDARD
TZOFFSETFROM:-0400
TZOFFSETTO:-0500
TZNAME:EST
DTSTART:20241103T060000
END:STANDARD
BEGIN:DAYLIGHT
TZOFFSETFROM:-0500
TZOFFSETTO:-0400
TZNAME:EDT
DTSTART:20250309T070000
END:DAYLIGHT
BEGIN:STANDARD
TZOFFSETFROM:-0400
TZOFFSETTO:-0500
TZNAME:EST
DTSTART:20251102T060000
END:STANDARD
BEGIN:DAYLIGHT
TZOFFSETFROM:-0500
TZOFFSETTO:-0400
TZNAME:EDT
DTSTART:20260308T070000
END:DAYLIGHT
BEGIN:STANDARD
TZOFFSETFROM:-0400
TZOFFSETTO:-0500
TZNAME:EST
DTSTART:20261101T060000
END:STANDARD
END:VTIMEZONE
BEGIN:VEVENT
DTSTART;TZID=America/Toronto:20250905T080000
DTEND;TZID=America/Toronto:20250907T170000
DTSTAMP:20260421T222955
CREATED:20250829T135905Z
LAST-MODIFIED:20250829T135905Z
UID:254534-1757059200-1757264400@jazz.fm
SUMMARY:World of Jazz Festival
DESCRIPTION:The World of Jazz Festival is the annual signature event for B-Jazzed\, hosting more than 100 musicians performing over two days\, in Downtown Brampton. \nThe definition of jazz is substantially different from its inception\, and its disciplines in our present times are broad and evolving due to the global dissemination of the art form\, as well as the cultural and socio-economic influences it has inherited in different parts of the world. \nIt is ensembles who reflect these influences that are featured annually at the festival. \nThe World of Jazz Festival extends an opportunity for local students\, hobbyists\, and professional musicians to perform across its various stages\, and has featured Canadian and international jazz luminaries\, such as Michael Kaeshammer\, and the Count Basie Orchestra. \nView the full schedule here.
URL:https://jazz.fm/live-event/world-of-jazz-festival/
LOCATION:Downtown Brampton Garden Square\, 12 Main Street North\, Brampton\, Ontario\, L6V 1N6\, Canada
CATEGORIES:Events Calendar
ATTACH;FMTTYPE=image/jpeg:https://jazz.fm/wp-content/uploads/Press-WorldofJazz-1280x720-2025.jpg
END:VEVENT
END:VCALENDAR