BEGIN:VCALENDAR
VERSION:2.0
PRODID:-//JAZZ.FM91 - ECPv6.15.20//NONSGML v1.0//EN
CALSCALE:GREGORIAN
METHOD:PUBLISH
X-ORIGINAL-URL:https://jazz.fm
X-WR-CALDESC:Events for JAZZ.FM91
REFRESH-INTERVAL;VALUE=DURATION:PT1H
X-Robots-Tag:noindex
X-PUBLISHED-TTL:PT1H
BEGIN:VTIMEZONE
TZID:America/Toronto
BEGIN:DAYLIGHT
TZOFFSETFROM:-0500
TZOFFSETTO:-0400
TZNAME:EDT
DTSTART:20240310T070000
END:DAYLIGHT
BEGIN:STANDARD
TZOFFSETFROM:-0400
TZOFFSETTO:-0500
TZNAME:EST
DTSTART:20241103T060000
END:STANDARD
BEGIN:DAYLIGHT
TZOFFSETFROM:-0500
TZOFFSETTO:-0400
TZNAME:EDT
DTSTART:20250309T070000
END:DAYLIGHT
BEGIN:STANDARD
TZOFFSETFROM:-0400
TZOFFSETTO:-0500
TZNAME:EST
DTSTART:20251102T060000
END:STANDARD
BEGIN:DAYLIGHT
TZOFFSETFROM:-0500
TZOFFSETTO:-0400
TZNAME:EDT
DTSTART:20260308T070000
END:DAYLIGHT
BEGIN:STANDARD
TZOFFSETFROM:-0400
TZOFFSETTO:-0500
TZNAME:EST
DTSTART:20261101T060000
END:STANDARD
END:VTIMEZONE
BEGIN:VEVENT
DTSTART;TZID=America/Toronto:20250728T000000
DTEND;TZID=America/Toronto:20250828T000000
DTSTAMP:20260422T202224
CREATED:20250805T170058Z
LAST-MODIFIED:20250805T170058Z
UID:249466-1753660800-1756339200@jazz.fm
SUMMARY:jazz.fm91 50/50 Raffle
DESCRIPTION:THE jazz.fm91 50/50 RAFFLE IS BACK! \nEnjoy the soulful sounds of jazz and support a great cause! \nEnter for your chance to win half of the jackpot and help keep jazz alive in our community. Tickets start at $10\, and the more you play the better your odds. \njazz.fm91 has given away more than $225\,000 in prize money — are you next? \n📅Grand Prize: August 29\n🎟️Tickets start at $10\n⏲️Sales end at midnight on August 28. \n🎟️Buy tickets at jazz.fm/fiftyfifty
URL:https://jazz.fm/live-event/jazz.fm91-50-50-raffle/
LOCATION:Online/Virtual
CATEGORIES:Events Calendar
ATTACH;FMTTYPE=image/png:https://jazz.fm/wp-content/uploads/5050-summer-raffle-homepage-1.png
ORGANIZER;CN="jazz.fm91":MAILTO:info@jazz.fm
END:VEVENT
BEGIN:VEVENT
DTSTART;TZID=America/Toronto:20250821T080000
DTEND;TZID=America/Toronto:20250824T170000
DTSTAMP:20260422T202224
CREATED:20250801T171058Z
LAST-MODIFIED:20250801T171058Z
UID:249438-1755763200-1756054800@jazz.fm
SUMMARY:Port Hope Jazz Festival
DESCRIPTION:Tickets are on sale! \nThe 2025 Lineup: \nThursday\, August 21 \n\nAngela Pincente Big Band\n​Jeremy Ledbetter Trio\n\n​​Friday\, August 22 \n\nElizabeth Shepherd and Michael Occhipinti (ES:MO)\n​Molly Johnson Quartet\n​After Hours Jam with Michael Shand\, Duncan Hopkins and Lorne Nehring\n\nSaturday\, August 23 \n\nDave Young in Conversation\n​Nancy Walker Quartet with Tara Davidson\, Lauren Falls and Ethan Ardelli\n​André Valerio\nJenie Thai\nDizzy and Fay​\nOakland Stroke\n​After Hours Jam with Michael Shand\, Duncan Hopkins and Lorne Nehring​\n\nSunday August 24 \n\nLorne Nehring Trio\nAle Nuñez Trio with Neil Swainson and Vlad Redzic\n​Alison Young Sextet with Alexander Brown\, Reg Schwager\, Jeff McLeod\, Chris Banks and Al Webster\nJazz Vespers with Tryptique
URL:https://jazz.fm/live-event/port-hope-jazz-festival-2/
CATEGORIES:Events Calendar
ATTACH;FMTTYPE=image/png:https://jazz.fm/wp-content/uploads/505009186_705229722257100_8362802738892993097_n.png
END:VEVENT
END:VCALENDAR