BEGIN:VCALENDAR
VERSION:2.0
PRODID:-//JAZZ.FM91 - ECPv6.15.20//NONSGML v1.0//EN
CALSCALE:GREGORIAN
METHOD:PUBLISH
X-ORIGINAL-URL:https://jazz.fm
X-WR-CALDESC:Events for JAZZ.FM91
REFRESH-INTERVAL;VALUE=DURATION:PT1H
X-Robots-Tag:noindex
X-PUBLISHED-TTL:PT1H
BEGIN:VTIMEZONE
TZID:America/Toronto
BEGIN:DAYLIGHT
TZOFFSETFROM:-0500
TZOFFSETTO:-0400
TZNAME:EDT
DTSTART:20200308T070000
END:DAYLIGHT
BEGIN:STANDARD
TZOFFSETFROM:-0400
TZOFFSETTO:-0500
TZNAME:EST
DTSTART:20201101T060000
END:STANDARD
BEGIN:DAYLIGHT
TZOFFSETFROM:-0500
TZOFFSETTO:-0400
TZNAME:EDT
DTSTART:20210314T070000
END:DAYLIGHT
BEGIN:STANDARD
TZOFFSETFROM:-0400
TZOFFSETTO:-0500
TZNAME:EST
DTSTART:20211107T060000
END:STANDARD
BEGIN:DAYLIGHT
TZOFFSETFROM:-0500
TZOFFSETTO:-0400
TZNAME:EDT
DTSTART:20220313T070000
END:DAYLIGHT
BEGIN:STANDARD
TZOFFSETFROM:-0400
TZOFFSETTO:-0500
TZNAME:EST
DTSTART:20221106T060000
END:STANDARD
END:VTIMEZONE
BEGIN:VEVENT
DTSTART;TZID=America/Toronto:20210729T190000
DTEND;TZID=America/Toronto:20210729T203000
DTSTAMP:20260421T124207
CREATED:20210719T060022Z
LAST-MODIFIED:20210719T044519Z
UID:203425-1627585200-1627590600@jazz.fm
SUMMARY:Play The Parks On Location: Jordana Talsky
DESCRIPTION:Jordana Talsky is a singer\, songwriter and vocal looper who fuses multi-genre influences into her own sound. She weaves unique interpretations of covers with original material. Jordana has toured extensively and enjoyed widespread worldwide airplay of her earlier releases “Neither of Either” and “Standard Deviation”. She will release an all-vocal-looping EP in August 2021. \nPlay The Parks is streamed live on the Downtown Yonge Facebook Page \nPlay The Parks is presented by TD Bank\nSupported by jazz.fm91
URL:https://jazz.fm/live-event/play-the-parks-on-location-jordana-talsky/
LOCATION:Jazz Bistro\, 251 Victoria Street\, Toronto\, Canada
CATEGORIES:Events Calendar
ATTACH;FMTTYPE=image/jpeg:https://jazz.fm/wp-content/uploads/Jordana-Talsky-Play-the-Parks.jpeg
END:VEVENT
END:VCALENDAR