BEGIN:VCALENDAR
VERSION:2.0
PRODID:-//JAZZ.FM91 - ECPv6.15.20//NONSGML v1.0//EN
CALSCALE:GREGORIAN
METHOD:PUBLISH
X-ORIGINAL-URL:https://jazz.fm
X-WR-CALDESC:Events for JAZZ.FM91
REFRESH-INTERVAL;VALUE=DURATION:PT1H
X-Robots-Tag:noindex
X-PUBLISHED-TTL:PT1H
BEGIN:VTIMEZONE
TZID:America/Toronto
BEGIN:DAYLIGHT
TZOFFSETFROM:-0500
TZOFFSETTO:-0400
TZNAME:EDT
DTSTART:20200308T070000
END:DAYLIGHT
BEGIN:STANDARD
TZOFFSETFROM:-0400
TZOFFSETTO:-0500
TZNAME:EST
DTSTART:20201101T060000
END:STANDARD
BEGIN:DAYLIGHT
TZOFFSETFROM:-0500
TZOFFSETTO:-0400
TZNAME:EDT
DTSTART:20210314T070000
END:DAYLIGHT
BEGIN:STANDARD
TZOFFSETFROM:-0400
TZOFFSETTO:-0500
TZNAME:EST
DTSTART:20211107T060000
END:STANDARD
BEGIN:DAYLIGHT
TZOFFSETFROM:-0500
TZOFFSETTO:-0400
TZNAME:EDT
DTSTART:20220313T070000
END:DAYLIGHT
BEGIN:STANDARD
TZOFFSETFROM:-0400
TZOFFSETTO:-0500
TZNAME:EST
DTSTART:20221106T060000
END:STANDARD
END:VTIMEZONE
BEGIN:VEVENT
DTSTART;TZID=America/Toronto:20210727T123000
DTEND;TZID=America/Toronto:20210727T140000
DTSTAMP:20260421T152806
CREATED:20210719T050043Z
LAST-MODIFIED:20210719T203834Z
UID:203384-1627389000-1627394400@jazz.fm
SUMMARY:Play The Parks On Location: Sammy Jackson
DESCRIPTION:JUNO Award-winning artist Sammy Jackson is an emerging Jamaican-Canadian singer-songwriter recognized for her distinct sound while fusing elements of Jazz\, R&B and Pop. This year\, Sammy Jackson’s album “With You” won a Juno Award for Vocal Jazz Album of the Year. \nPlay The Parks is streamed live on the Downtown Yonge Facebook Page \nPlay The Parks is presented by TD Bank\nSupported by jazz.fm91
URL:https://jazz.fm/live-event/play-the-parks-on-location-sammy-jackson/
LOCATION:Jazz Bistro\, 251 Victoria Street\, Toronto\, Canada
CATEGORIES:Events Calendar
ATTACH;FMTTYPE=image/jpeg:https://jazz.fm/wp-content/uploads/Play-the-Parks-Sammy-Jackson-Yonge-Downtown-BIA.jpeg
END:VEVENT
END:VCALENDAR