BEGIN:VCALENDAR
VERSION:2.0
PRODID:-//JAZZ.FM91 - ECPv6.15.20//NONSGML v1.0//EN
CALSCALE:GREGORIAN
METHOD:PUBLISH
X-WR-CALNAME:JAZZ.FM91
X-ORIGINAL-URL:https://jazz.fm
X-WR-CALDESC:Events for JAZZ.FM91
REFRESH-INTERVAL;VALUE=DURATION:PT1H
X-Robots-Tag:noindex
X-PUBLISHED-TTL:PT1H
BEGIN:VTIMEZONE
TZID:America/Toronto
BEGIN:DAYLIGHT
TZOFFSETFROM:-0500
TZOFFSETTO:-0400
TZNAME:EDT
DTSTART:20200308T070000
END:DAYLIGHT
BEGIN:STANDARD
TZOFFSETFROM:-0400
TZOFFSETTO:-0500
TZNAME:EST
DTSTART:20201101T060000
END:STANDARD
BEGIN:DAYLIGHT
TZOFFSETFROM:-0500
TZOFFSETTO:-0400
TZNAME:EDT
DTSTART:20210314T070000
END:DAYLIGHT
BEGIN:STANDARD
TZOFFSETFROM:-0400
TZOFFSETTO:-0500
TZNAME:EST
DTSTART:20211107T060000
END:STANDARD
BEGIN:DAYLIGHT
TZOFFSETFROM:-0500
TZOFFSETTO:-0400
TZNAME:EDT
DTSTART:20220313T070000
END:DAYLIGHT
BEGIN:STANDARD
TZOFFSETFROM:-0400
TZOFFSETTO:-0500
TZNAME:EST
DTSTART:20221106T060000
END:STANDARD
END:VTIMEZONE
BEGIN:VEVENT
DTSTART;VALUE=DATE:20210702
DTEND;VALUE=DATE:20210713
DTSTAMP:20260423T033720
CREATED:20210608T210538Z
LAST-MODIFIED:20210609T171839Z
UID:202111-1625191200-1626055199@jazz.fm
SUMMARY:Toronto Outdoor Art Fair
DESCRIPTION:Canada’s largest and longest-running contemporary outdoor art fair is turning 60! Toronto Outdoor Art Fair will take place July 2-11 and celebrates artists online as a digital event. Enjoy artist-led studio tours\, curated collections and virtual art talks\, or visit select artists showcased at stackt market. Art lovers can browse and buy artworks from 400+ artists. For more info\, visit TOAF.ca.
URL:https://jazz.fm/live-event/toronto-outdoor-art-fair-2021/
LOCATION:Stackt Market\, 28 Bathurst St.\, Toronto\, Ontario\, M5V0C6\, Canada
CATEGORIES:Events Calendar
ATTACH;FMTTYPE=image/png:https://jazz.fm/wp-content/uploads/TOAF21003_MarketingAssets_Web_EventListing.png
END:VEVENT
END:VCALENDAR